View In:
ArcGIS JavaScript
ArcGIS Online map viewer
Google Earth
ArcMap
View Footprint In:
ArcGIS Online map viewer
Service Description: PeelImagery/PeelImagery_Satellite2021
Name: PeelImagery/PeelImagery_Satellite2021
Description: PeelImagery/PeelImagery_Satellite2021
Single Fused Map Cache: false
Extent:
XMin: 567777.5
YMin: 4814193.5
XMax: 618943.5
YMax: 4872463
Spatial Reference: 26917
(26917)
Initial Extent:
XMin: 567777.5
YMin: 4814193.5
XMax: 618943.5
YMax: 4872463
Spatial Reference: 26917
(26917)
Full Extent:
XMin: 567777.5
YMin: 4814193.5
XMax: 618943.5
YMax: 4872463
Spatial Reference: 26917
(26917)
Pixel Size X: 0.5
Pixel Size Y: 0.5
Band Count: 4
Pixel Type: U16
RasterFunction Infos: N/A
Mensuration Capabilities: Basic
Has Histograms: true
Has Colormap: false
Has Multi Dimensions : false
Rendering Rule:
Min Scale: 250000
Max Scale: 1000
Copyright Text:
Service Data Type: esriImageServiceDataTypeGeneric
Min Values: 1, 1, 1, 1
Max Values: 12012, 10433, 14352, 19062
Mean Values: 443.48356129871, 545.14136531841, 610.63751035823, 1316.9255427231
Standard Deviation Values: 345.03098009014, 308.39726272226, 291.86997688569, 593.08248782629
Object ID Field:
Fields:
None
Default Mosaic Method: Center
Allowed Mosaic Methods:
SortField:
SortValue: null
Mosaic Operator: First
Default Compression Quality: 75
Default Resampling Method: Bilinear
Max Record Count: null
Max Image Height: 4100
Max Image Width: 15000
Max Download Image Count: null
Max Mosaic Image Count: null
Allow Raster Function: true
Allow Compute TiePoints: false
Supports Statistics: false
Supports Advanced Queries: false
Use StandardizedQueries: true
Raster Type Infos:
Name: Raster Dataset
Description: Supports all ArcGIS Raster Datasets
Help:
Has Raster Attribute Table: false
Edit Fields Info: null
Ownership Based AccessControl For Rasters: null
Child Resources:
Info
Histograms
Key Properties
Legend
MultiDimensionalInfo
rasterFunctionInfos
Supported Operations:
Export Image
Identify
Measure
Compute Histograms
Compute Statistics Histograms
Get Samples
Compute Class Statistics